BEGIN:VCALENDAR
VERSION:2.0
PRODID:-//wp-events-plugin.com//7.2.3.1//EN
BEGIN:VEVENT
UID:6@otpecs.hu
DTSTART;TZID=Europe/Budapest:20241230T093000
DTEND;TZID=Europe/Budapest:20241230T130000
DTSTAMP:20250112T181702Z
URL:https://otpecs.hu/esemenyek/26583/
SUMMARY:Évzáró Szilveszteri Kiállítás és Gurulás
DESCRIPTION:\n\n\nSzilveszteri Oldtimer Kiállítás és gurulás 2024.12.3
 0.\nPécs\, Széchenyi tér. ( Csak száraz idő esetén!)\nGyülekező 9:
 30-tól\, behajtás 10:00 órakor\, északról a Hunyai út felől !!!\n\
 nDecember 30-án mindenkit (nem csak klubtagot) várunk szeretettel '95 el
 őtt gyártott járművével a Széchenyi térre!\nGyülekező a Hunyadi 
 úti bejáratnál 9:30-kor. A téren mindenki vendégünk egy forró teár
 a és finom pogácsára.\n13:00 órakor egy közös városi gurulással z
 árjuk az eseményt\, melyen a KRESZ szigorú betartása mellett mindenki
  a saját felelősségével vehet részt.\nÚtvonal: Hunyadí út - Ágost
 on tér - Lánc u. - Rákóczi u. - Siklósi u. - Maléter Pál u. - Nyuga
 ti ipari u. - Füzes dülő - Expo Center parkoló.\nA gurulás végén a 
 járművezetők egy emlékmatricát kapnak ajándékba.\nElőzetes regisz
 tráció nem szükséges\, de hangsúlyozzuk: a rendezvény csak száraz i
 dő esetén lesz megtartva!\n\nInfo.: Mott János\, 20/2405880\n\n\n\n
ATTACH;FMTTYPE=image/jpeg:https://otpecs.hu/wp-content/uploads/2024/10/2.p
 ng
LOCATION:https://maps.app.goo.gl/kkBopGhCi51vKrr68
END:VEVENT
BEGIN:VTIMEZONE
TZID:Europe/Budapest
X-LIC-LOCATION:Europe/Budapest
BEGIN:STANDARD
DTSTART:20241027T020000
TZOFFSETFROM:+0200
TZOFFSETTO:+0100
TZNAME:CET
END:STANDARD
END:VTIMEZONE
END:VCALENDAR