BEGIN:VCALENDAR
VERSION:2.0
PRODID:-//wp-events-plugin.com//7.2.3.1//EN
BEGIN:VEVENT
UID:32@otpecs.hu
DTSTART;TZID=Europe/Budapest;VALUE=DATE:20250510
DTEND;TZID=Europe/Budapest;VALUE=DATE:20250512
DTSTAMP:20250208T145636Z
URL:https://otpecs.hu/esemenyek/del-alfoldi-veteran-tura/
SUMMARY:Dél-Alföldi veterán túra
DESCRIPTION:Dél-Alföldi Veterán túra\n2025. május 10. - Szombat\nindul
 ás: 7:00 kozármislenyi benzinkút M.Petrol\nBátaszéken 15 perc pihenő
 \nKiskunhalasra érve megnézzük a Safrik szélmalmot\,\n12:00 Sóstó cs
 árdában ebéd\,\n13:30 körül indulunk  Bordányba ahol megnézzük a 
 Kisapáti István autó gyűjteményét és a Velocipéd műhelyt.\n(után
 a ha az idő engedi a Szarmata régészeti park is meg tudjuk nézni)\,\nS
 zállás: Balástya\, Hotel Orchidea **\n-\n2025. május 11. - Vasárnap\n
 indulás: 9:00\nMórahalomra Ezer-év park megtekintésére tárlatvezeté
 ssel\,\n12:00 ebéd a Varga csárdában\,\nÁsotthalom\, Rózsa Sándor é
 lményház után indulunk haza\,\n(Ha van rá igény megállhatunk Dunasze
 kcsőn a csárdában.)\n-\nVárható költségek körölbelül:\n- a szál
 lás 2 főre 20.000 Ft (reggelivel)\, amit mindenki maga fizet.\n- a két 
 ebéd és az egy vacsora és a kiállitások belépője ~20.000 Ft/fő\, a
 mit majd Glück Tamás előre begyűjt.
ATTACH;FMTTYPE=image/jpeg:https://otpecs.hu/wp-content/uploads/2025/01/del
 alfoldi.jpg
CATEGORIES:Veterán túrák
LOCATION:https://szallas.hu/hotel-orchidea-balastya
END:VEVENT
BEGIN:VTIMEZONE
TZID:Europe/Budapest
X-LIC-LOCATION:Europe/Budapest
BEGIN:DAYLIGHT
DTSTART:20250330T030000
TZOFFSETFROM:+0100
TZOFFSETTO:+0200
TZNAME:CEST
END:DAYLIGHT
END:VTIMEZONE
END:VCALENDAR