BEGIN:VCALENDAR
VERSION:2.0
PRODID:-//wp-events-plugin.com//7.2.3.1//EN
BEGIN:VEVENT
UID:29@otpecs.hu
DTSTART;TZID=Europe/Budapest:20240420T080000
DTEND;TZID=Europe/Budapest:20240421T180000
DTSTAMP:20250112T183756Z
URL:https://otpecs.hu/esemenyek/kali-medence-balaton-kerulo-veteranautos-t
 ura/
SUMMARY:Káli Medence\, Balaton kerülő Veteránautós túra
DESCRIPTION:\n\n\nKáli Medence\, Balaton kerülő Veteránautós túra\n20
 24.04.20-21.\nIndulás:\n\n2024.04.20. szombat 8:00-kor ORLEN benzinkút P
 écs Komlói út.\n\n1. megálló:\nBalatonlelle\, Rákóczi út OMV benzi
 nkút (érkezés kb. 9:30-10:00 115km kb\,1\,5-2 óra)\nItt WC kávé stb.
  maximum 30perc pihenő. indulás 10:30\n\n2. megálló:\nBalatongyörök\
 , Eötvös Károly u Szépkilátó (érkezés kb. 11:30óra 65 km kb. 1 ó
 ra)\nhttps://balatongyorok.hu/latnivalok/szepkilato/(külső hivatkozás)\
 nItt egy kis nézelődés szendvicsezés stb. maximum 30perc pihenő. indu
 lás 12:00-kor\nItt szedjük össze a múzeum belépőt.\n\n3. megálló:\
 nKaáli Autó-Motor Múzeum\, Dörgicse\, Csörgőfa u. 33/2\, (érkezés 
 13:00 45km kb. 1óra)\nhttps://automotormuzeum.hu/(külső hivatkozás)\n1
 3.30-tól 1\,5 óra vezetett túra 5000Ft/fő a belépő.\n15:00kor vége 
 indulás kb. 15:30-kor.\n\n4. megálló:\nAszófői Halsütő\, Aszófő 7
 1. sz. főút mellett\, (érkezés 16:00 15km kb. 20-30 perc)\nhttps://www
 .facebook.com/p/Asz%C3%B3f%C5%91i-Hals%C3%BCt%C5%91-100063680...(külső h
 ivatkozás)\nItt étkezés mindenki maga intézi. indulás a szállásra 1
 7: 00- 17:30kor.\n\n5. megálló:\nSzállás The Houses of History\, Tihan
 y\, Major u. 61\, érkezés 18:00kor\nhttp://www.thehousesofhistory.com/(k
 ülső hivatkozás)\n\n-Ár: 35.000 Ft / szoba/ éj 2 fő részére\n\n-Az
  ár tartalmazza a szállás díját a megadott időszakra\, a bőséges 
 és házias svédasztalos reggelit\, jó idő esetén a medencehasználato
 t\, a korlátlan WiFi-t\, a szállodai bekészítéseket (kávé\, tea\, 
 ásványvíz stb.) valamint az általános forgalmi adót.\n-Az ár nem ta
 rtalmazza az idegenforgalmi adót\, melynek összege 680 Ft / fő / éj\, 
 illetve a parkolást\, amely 3.500 Ft / gépjármű / éj.\nCsak a szálá
 s díja 17.500Ft/fő\n\n2024.04.21 vasárnap\nReggeli The Houses of Histor
 y\, Tihany\, Major u. 61\, érkezés 8:00-9:00-óra közt\nIndulás 10:00-
 kor\n\n1. megálló:\nBala-Toni Retro múzeum\, Balatonfőkajár\, Petőfi
  Sándor u. 47\, 8164 (érkezés kb. 11:00 kor 45km)\nhttps://www.facebook
 .com/people/Bala-Toni-Retro-M%C3%BAzeum/100057214459...(külső hivatkozá
 s)\nItt nézelődés beszélgetés kb. 1 óra program\, 2500Ft/fő a belé
 pő\n\n2. megálló:\nNekem a Balaton (Nánásiék) "Csücsök"\, Balatona
 karattya\, Bercsényi lejáró\, (érkezés 12:00 körül 5km)\nItt tudunk
  ebédelni mindenki maga fizeti. kb 1 óra tartózkodás\n\n3. megálló:\
 nMOL\, Kaposvár\, Füredi u. 180\, (érkezés 14:30 körül 96km)\nItt WC
  kávé stb. maximum 30perc pihenő. indulás 15:00kürül indulás.\n\n4.
  megálló:\nORLEN benzinkút Pécs Komlói út. (érkezés kb. 16:00 kor 
 62 km)\nItt vége a túrának. Az egész túra kb 450km\nÖsszesen:\nRész
 vételi díj múzeumlátogatásokkalés szálással25.000Ft/fő+680IFA\nAu
 tó parkolást mindenki maga fizeti a recepción3500Ft/autó\nA szálláss
 al kapcsolatban szeretném jelezni\, hogy a foglalásukat úgy tudjuk érv
 ényesíteni\, ha 45 nappal az érkezés napja előtt átutalásra kerül 
 a szobák díja.\n\nCsak a szálás díja 17.500Ft/fő\, ezt az összeget 
 át kell utalni az alábbi számlaszámra 2024.03.14.ig\nKlaics Gábor\nMB
 H Bank 50100026-10022812\n\n\n\n
ATTACH;FMTTYPE=image/jpeg:https://otpecs.hu/wp-content/uploads/2024/04/vag
 olap01_2.jpg
END:VEVENT
BEGIN:VTIMEZONE
TZID:Europe/Budapest
X-LIC-LOCATION:Europe/Budapest
BEGIN:DAYLIGHT
DTSTART:20240331T030000
TZOFFSETFROM:+0100
TZOFFSETTO:+0200
TZNAME:CEST
END:DAYLIGHT
END:VTIMEZONE
END:VCALENDAR