BEGIN:VCALENDAR
VERSION:2.0
PRODID:-//wp-events-plugin.com//7.2.3.1//EN
BEGIN:VEVENT
UID:41@otpecs.hu
DTSTART;TZID=Europe/Budapest;VALUE=DATE:20251010
DTEND;TZID=Europe/Budapest;VALUE=DATE:20251013
DTSTAMP:20250925T180832Z
URL:https://otpecs.hu/esemenyek/kiallitas-az-igali-gyogyfurdoben/
SUMMARY:Kiállítás az Igali Gyógyfürdőben.
DESCRIPTION:Kiállítás az Igali Gyógyfürdőben\nRészletek hamarosan
ATTACH;FMTTYPE=image/jpeg:https://otpecs.hu/wp-content/uploads/2025/01/Old
 timer-Club-Pecs.jpg
CATEGORIES:Kiállítás,Parti és szórakzozás
LOCATION:https://www.google.com/maps/place/Igali+Gy%C3%B3gyf%C3%BCrd%C5%91/
 @46.5420697,17.942928,336m/data=!3m2!1e3!5s0x47683121f8f5a629:0x50998af7fa
 fc39f9!4m6!3m5!1s0x476831218d9d7c7f:0xb970230adfcaaa24!8m2!3d46.5420464!4d
 17.9437258!16s%2Fg%2F1tf39b3n?entry=ttu&g_ep=EgoyMDI1MDkyMi4wIKXMDSoASAFQA
 w%3D%3D
END:VEVENT
BEGIN:VTIMEZONE
TZID:Europe/Budapest
X-LIC-LOCATION:Europe/Budapest
BEGIN:DAYLIGHT
DTSTART:20250330T030000
TZOFFSETFROM:+0100
TZOFFSETTO:+0200
TZNAME:CEST
END:DAYLIGHT
END:VTIMEZONE
END:VCALENDAR