BEGIN:VCALENDAR
VERSION:2.0
PRODID:-//wp-events-plugin.com//7.2.3.1//EN
BEGIN:VEVENT
UID:14@otpecs.hu
DTSTART:20250403T160000Z
DTEND:20250403T180000Z
DTSTAMP:20250331T080511Z
URL:https://otpecs.hu/esemenyek/klubgyules-2025-04-03/
SUMMARY:Klubgyűlés
DESCRIPTION:\n\n\nKlubgyűlés\nKedves Klubtársunk és leendő tagjaink!\n
 Szeretettel meghívunk az áprilisi klubgyűlésünkre!\n2025.04.03.\nKér
 lek ha szeretnél ott lenni akkor az esemény oldalán a Foglalás részbe
 n  regisztrálj!\n\nÍzelítő a főbb napirendi pontokból:\n- Az elmúl
 t időszak eseményei.\n\n 	Veteránbál\n\n- A következő időszak terve
 i\, rendezvényei:\n\n 	Motoros gurulás\n 	Nagypénteki Börze\n 	Túra a
  Kopácsi Rétre (Előleg befizetés 20.-€/fő!)\n 	Dél-Alföldi kirán
 dulás ) Előleg befizetés 19000.-Ft/fő!)\n 	További események\n 	Egye
 bek\n\nSzámítunk megjelenésedre!\n\n\n\n
ATTACH;FMTTYPE=image/jpeg:https://otpecs.hu/wp-content/uploads/2025/01/klu
 bgyules.webp
CATEGORIES:Klubgyűlés
LOCATION:https://www.google.hu/maps/place/46%C2%B003'53.5%22N+18%C2%B012'58
 .6%22E/@46.0646733,18.2164831,323m/data=!3m1!1e3!4m4!3m3!8m2!3d46.064855!4
 d18.216287?entry=ttu&g_ep=EgoyMDI1MDIwNC4wIKXMDSoASAFQAw%3D%3D
END:VEVENT
END:VCALENDAR