BEGIN:VCALENDAR
VERSION:2.0
PRODID:-//wp-events-plugin.com//7.2.3.1//EN
BEGIN:VEVENT
UID:18@otpecs.hu
DTSTART:20250807T160000Z
DTEND:20250807T180000Z
DTSTAMP:20250801T123906Z
URL:https://otpecs.hu/esemenyek/klubgyules-2025-08-07/
SUMMARY:Klubgyűlés
DESCRIPTION:\n\n\nKedves Klubtársunk és leendő tagjaink!\nSzeretettel me
 ghívunk a klubgyűlésünkre!\nKérlek ha szeretnél ott lenni akkor az e
 semény oldalán a Foglalás részben  regisztrálj annyi jegyet amennyie
 n jönnétek és küld el a foglalásodat!\n\nFőbb napirendi pontok:\n- 
 Átbeszéljük az utolsó gyűlés óta történteket\n-Beszámoló a vete
 rán minősítés legújabb szabályairól\, előadó Berki József\n- A k
 övetkező időszak eseményei:\n\n 	Harkányi Fürdőfesztivál - jelentk
 ezés  (08.20-24.)\n 	Nasice - Találkozó  (08.23-24.)\n 	Újvidék - T
 alálkozó  (08.29-31.)\n 	Fojnicai csapat összeállítása.  (09.05-07
 .)\n 	Nemzetközi Találkozó hírei  (09.19-21.)\n- Egyebek\nMinden klub
 tagot szeretettel várunk!\nMott János elnök.\n\n\n\n
ATTACH;FMTTYPE=image/jpeg:https://otpecs.hu/wp-content/uploads/2025/01/klu
 bgyules.webp
CATEGORIES:Klubgyűlés
LOCATION:https://www.google.hu/maps/place/46%C2%B003'53.5%22N+18%C2%B012'58
 .6%22E/@46.0646733,18.2164831,323m/data=!3m1!1e3!4m4!3m3!8m2!3d46.064855!4
 d18.216287?entry=ttu&g_ep=EgoyMDI1MDIwNC4wIKXMDSoASAFQAw%3D%3D
END:VEVENT
END:VCALENDAR