BEGIN:VCALENDAR
VERSION:2.0
PRODID:-//wp-events-plugin.com//7.2.3.1//EN
BEGIN:VEVENT
UID:21@otpecs.hu
DTSTART:20251106T160000Z
DTEND:20251106T180000Z
DTSTAMP:20250207T092618Z
URL:https://otpecs.hu/esemenyek/klubgyules-2025-11-06/
SUMMARY:Klubgyűlés
DESCRIPTION:\n\n\nKedves Klubtársunk és leendő tagjaink!\nSzeretettel me
 ghívunk a klubgyűlésünkre!\nKérlek ha szeretnél ott lenni akkor az e
 semény oldalán a Foglalás részben  regisztrálj annyi jegyet amennyie
 n jönnétek és küld el a foglalásodat. Köszönjük\n\nÍzelítő a f
 őbb napirendi pontokból:\n- Átbeszéljük az utolsó gyűlés óta tör
 ténteket\n- Átbeszéljük a Veteránbál részleteit\, jelentkezési sz
 ámok és egyéb\n- Pontosítjuk az év további programjait ha van válto
 zás\n- A tagságot érintő kérdésekről beszélgetünk\nés minden má
 s....\n\n\n\n
ATTACH;FMTTYPE=image/jpeg:https://otpecs.hu/wp-content/uploads/2025/01/klu
 bgyules.webp
CATEGORIES:Klubgyűlés
LOCATION:https://www.google.hu/maps/place/46%C2%B003'53.5%22N+18%C2%B012'58
 .6%22E/@46.0646733,18.2164831,323m/data=!3m1!1e3!4m4!3m3!8m2!3d46.064855!4
 d18.216287?entry=ttu&g_ep=EgoyMDI1MDIwNC4wIKXMDSoASAFQAw%3D%3D
END:VEVENT
END:VCALENDAR