BEGIN:VCALENDAR
VERSION:2.0
PRODID:-//wp-events-plugin.com//7.2.3.1//EN
BEGIN:VEVENT
UID:37@otpecs.hu
DTSTART;TZID=Europe/Budapest:20250426T080000
DTEND;TZID=Europe/Budapest:20250426T170000
DTSTAMP:20250408T135255Z
URL:https://otpecs.hu/esemenyek/kopacsi-ret/
SUMMARY:Kopácsi rét veterán túra
DESCRIPTION:Kopácsi rét veterán túra\nGyülekező: 2025. 04. 26. 8:00 
 órakor a beremendi határátkelőhelyen.\n\nHajós túra: 10:00-kor indul
 . A Sakadaš-tó melletti rakparton a hajó készen áll arra\, hogy izgal
 mas utazásra vigyen minket a Speciális Állattani Rezervátumon kereszt
 ül. Idegenvezető kíséretében megismerhetjük a Duna árterének csod
 álatos világát. Kopácsi-rétről röviden.\nA túra időtartama:  ~45
  perc\nHajós túra ára:  aki sétéval közelíti meg a hajót\, annak 
 13€/felnőtt vagy 11€/gyerek\; nyugdíjas\, aki pedig kisvonattal\, an
 nak 15€/felnőtt vagy 13€/gyerek\; nyugdíjas a belépőjegy ára.\n\n
 Ebéd: 12:00-kor Várdarócon a Darócz étterembe\, ahol 2 féle menübő
 l lehet majd előre választani. A menü ára nem tartalmazza az italfogya
 sztást!\n1.Menü - 15\,00 €/fő\nFőétel: Halpaprikás\nDesszert: ház
 i rétes\n2.Menü - 15\,00 €/fő\nFőétel: Csevapcsicsa\nDesszert: ház
 i rétes\nEbéd után hazafelé megállunk Petárdán egy fagyira.\n\nJele
 ntkezés 2025.04.03-ig a kiválaszott menü(k) Euróban történő kifizet
 ésével Orovicza Balázsnál!\n\nA legtöbb helyen elfogadnak bankkárty
 át is\, de célszerű készpénzzel (Euroval) is készülni a büfé\, fa
 gyizó miatt.
ATTACH;FMTTYPE=image/jpeg:https://otpecs.hu/wp-content/uploads/2025/02/Kop
 acki-rit-1.jpeg
CATEGORIES:Veterán túrák
LOCATION:https://www.google.com/maps/dir/Beremend,+Beremendi+Hat%C3%A1r%C3%
 A1tkel%C5%91hely,+Pet%C5%91fi+utca,+Hat%C3%A1r%C3%A1tkel%C5%91hely,+7827/K
 op%C3%A1csi-r%C3%A9t,+Kopa%C4%8Dko+jezero,+Kopa%C4%8Devo,+Horv%C3%A1torsz%
 C3%A1g/Restoran+Dar%C3%B3cz,+Ul.+Lajo%C5%A1a+Ko%C5%A1uta+39,+31327,+Vardar
 ac,+Horv%C3%A1torsz%C3%A1g/Beremendi+Hat%C3%A1r%C3%A1tkel%C5%91hely/@45.69
 80055,18.4740049,11.52z/data=!4m26!4m25!1m5!1m1!1s0x475d2569874f090b:0xfb9
 e4c0207641f03!2m2!1d18.453512!2d45.767814!1m5!1m1!1s0x475cc3c5df3b3727:0xf
 ee5cf342ed143eb!2m2!1d18.790316!2d45.60823!1m5!1m1!1s0x475cdde58e9201d1:0x
 bb92f1ef99108830!2m2!1d18.7706551!2d45.6237742!1m5!1m1!1s0x475d2569874f090
 b:0xfb9e4c0207641f03!2m2!1d18.453512!2d45.767814!3e0?entry=ttu&g_ep=EgoyMD
 I1MDIwNS4xIKXMDSoASAFQAw%3D%3D
END:VEVENT
BEGIN:VTIMEZONE
TZID:Europe/Budapest
X-LIC-LOCATION:Europe/Budapest
BEGIN:DAYLIGHT
DTSTART:20250330T030000
TZOFFSETFROM:+0100
TZOFFSETTO:+0200
TZNAME:CEST
END:DAYLIGHT
END:VTIMEZONE
END:VCALENDAR