BEGIN:VCALENDAR
VERSION:2.0
PRODID:-//wp-events-plugin.com//7.2.3.1//EN
BEGIN:VEVENT
UID:36@otpecs.hu
DTSTART;TZID=Europe/Budapest:20250418T060000
DTEND;TZID=Europe/Budapest:20250418T140000
DTSTAMP:20250404T115245Z
URL:https://otpecs.hu/esemenyek/nagypenteki-veteranjarmu-kiallitas-es-alka
 tresz-borze/
SUMMARY:Nagypénteki Veteránjármű Kiállítás és Alkatrész Börze
DESCRIPTION:Nagypénteki Veteránjármű Kiállítás és Alkatrészbörze\
 nSzeretettel várunk minden árust\, veteránjármű tulajdonost és érde
 klődőt a szokásosan Nagypénteken megrendezendő Veterán Börzén.Kapu
 nyitás 6:30-kor.Vendégül látunk mindenkit egy forró teára\, kávéra
  és egy zsíroskenyérre.Vendégeink lesznek a négy napos veterántúrá
 n résztvevő Retro Vasak csapata\, akik Kaposvárról indulva érkeznek P
 écsre\, majd egyórás ittartózkodás után indulnak tovább\, hogy a ne
 gyedik napon egy országos túra megtétele után visszaérkezzenek Kaposv
 árra.A részvétel minden látogató és veterán-járműtulajdos részé
 re ingyenes\, árusoknak területtől függően 2000.-Ft -tól.
ATTACH;FMTTYPE=image/jpeg:https://otpecs.hu/wp-content/uploads/2025/02/Bor
 ze.webp
CATEGORIES:Kiállítás
LOCATION:Expocenter\, Megyeri út 72.\, Pécs\, Baranya\, 7631\, Baranya\, 
 Magyarország
X-APPLE-STRUCTURED-LOCATION;VALUE=URI;X-ADDRESS=Megyeri út 72.\, Pécs\, B
 aranya\, 7631\, Baranya\, Magyarország;X-APPLE-RADIUS=100;X-TITLE=Expocen
 ter:geo:0,0
END:VEVENT
BEGIN:VTIMEZONE
TZID:Europe/Budapest
X-LIC-LOCATION:Europe/Budapest
BEGIN:DAYLIGHT
DTSTART:20250330T030000
TZOFFSETFROM:+0100
TZOFFSETTO:+0200
TZNAME:CEST
END:DAYLIGHT
END:VTIMEZONE
END:VCALENDAR