BEGIN:VCALENDAR
VERSION:2.0
PRODID:-//wp-events-plugin.com//7.2.3.1//EN
BEGIN:VEVENT
UID:30@otpecs.hu
DTSTART;TZID=Europe/Budapest:20240329T060000
DTEND;TZID=Europe/Budapest:20240329T060000
DTSTAMP:20250112T183829Z
URL:https://otpecs.hu/esemenyek/nagypenteki-veteranjarmu-kiallitas-es-borz
 e/
SUMMARY:Nagypénteki Veteránjármű Kiállítás és Börze
DESCRIPTION:\n\n\n\nEgyesületünk hagyományosan minden évben Nagypéntek
 en tartja szokásos tavaszi veteránjármű kiállítását és az alkatr
 észbörzét.\nHelyszín: ExpoCenter Pécs.\nSzeretettel várunk minden ve
 teránjármű tulajdonost járművével és minden árust portékájával\
 , valamint várunk minden érdeklődőt\, látogatót.\nMindenkit meghívu
 nk egy teára\, kávéra és egy zsíroskenyérre.\nAz emeletes busz vissz
 atér!!\nUtazási lehetőség a 60-as\, 70-es években Pécs utcáin közl
 ekedő emeletes bisszal!\nJegyeket a helyszínen lehet megvásárolni. Ár
 a: 2000.-Ft/fő\n\nIsmét lesz járműszépség-verseny\, szervezünk ügy
 ességi szlalomversenyt !\n\nBelépés a látogatók és veteránjárműve
 l érkezőknek ingyenes\, az árusok díja területtől függően 3000.-Ft
  -tól.\n\nInfo: Mott János\, +36 20 2405880\n\n\n\n
ATTACH;FMTTYPE=image/jpeg:https://otpecs.hu/wp-content/uploads/2024/03/tav
 asziborze.jpg
LOCATION:https://maps.app.goo.gl/9MQ5tV5Vdb59HNBYA
END:VEVENT
BEGIN:VTIMEZONE
TZID:Europe/Budapest
X-LIC-LOCATION:Europe/Budapest
BEGIN:STANDARD
DTSTART:20231029T020000
TZOFFSETFROM:+0200
TZOFFSETTO:+0100
TZNAME:CET
END:STANDARD
END:VTIMEZONE
END:VCALENDAR