BEGIN:VCALENDAR
VERSION:2.0
PRODID:-//wp-events-plugin.com//7.2.3.1//EN
BEGIN:VEVENT
UID:25@otpecs.hu
DTSTART;TZID=Europe/Budapest:20240816T180000
DTEND;TZID=Europe/Budapest:20240818T160000
DTSTAMP:20250112T180516Z
URL:https://otpecs.hu/esemenyek/nemzetkozi-talalkozo-nasice/
SUMMARY:Nemzetközi Találkozó Nasice
DESCRIPTION:\n 	Vendégek fogadása\, regisztráció:LovačkakućazaodmorVa
 lenovac“ 16 órától.\n 	Vacsora és élőzenés táncmulatság\n\nSzom
 bat 08. 17.\n\n 	08:00 reggeli\,\n 	vendégek fogadása – regisztráció
 .\n 	A frissen felújított Pajcsevics kastély megtekintése idegenvezet
 ővel.\n 	„Dora“mazsorett csoport előadása\, Városi fúvós zenekar
  koncertje.\n 	11:00.25. Nemzetközi OLDTIMER Találkozó megnyitója\n 	P
 olgármesteri köszöntő. Leg- járművek megválasztása.\n 	11:301. eta
 p Našice – Feričanci-Ergela\n 	EnoSophia borászt bejárása. Pincelá
 togatás\, borkóstolás.\n 	Borvidék bejárása\, majd ebéd a „Goveđ
 aglava” étteremben.\n 	Díjak\, serlegek\, oklevelek átadása.\n 	16:3
 0 2.etap Feričanci – Jelisavac\n 	Felvonulás Jelisavac utcáin. „Kor
 bačiki“ sajttermékek kóstolója\, frissítő\, járművek kiállítá
 sa.\n 	18:00részvétel a 20. Szlovák napok eseményein\, 20.Korbačika e
 sti mulatság\, Jelisavac135 éves évfordulójának megünneplése.\n 	20
 :00 3.etap Jelisavac – Valenovac\n 	Valenovac: vacsora. Esti mulatság\,
  zene – tánc.\n\nVasárnap. 08. 18.:\n\nReggeli\n\n 	Csatlakozás Jelis
 avac 135 éves évfordulója alkalmából rendezett programsorozathoz.\n 	
 Ökörsütés.\n 	uzglazbu i druženje.\n\nJelentkezési határidő: augus
 ztus 5. hétfő.
ATTACH;FMTTYPE=image/jpeg:https://otpecs.hu/wp-content/uploads/2024/08/nas
 ice_2.png
END:VEVENT
BEGIN:VTIMEZONE
TZID:Europe/Budapest
X-LIC-LOCATION:Europe/Budapest
BEGIN:DAYLIGHT
DTSTART:20240331T030000
TZOFFSETFROM:+0100
TZOFFSETTO:+0200
TZNAME:CEST
END:DAYLIGHT
END:VTIMEZONE
END:VCALENDAR