BEGIN:VCALENDAR
VERSION:2.0
PRODID:-//wp-events-plugin.com//7.2.3.1//EN
BEGIN:VEVENT
UID:42@otpecs.hu
DTSTART;TZID=Europe/Budapest:20251023T060000
DTEND;TZID=Europe/Budapest:20251023T140000
DTSTAMP:20250925T180526Z
URL:https://otpecs.hu/esemenyek/oszi-veteranjarmu-kiallitas-es-borze-2/
SUMMARY:Őszi Veteránjármű-kiállítás és Börze
DESCRIPTION:Őszi Veteránjármű kiállítás és Börze\nEgyesületünk 2
 025. őszén is megrendezi a szokásos veteránjármű kiállítást és b
 örzét.\n\nFIGYELEM! Új helyszín !!!\n\nAz ExpoCenter műszaki okokból
  már nem bérelhető\, ezért új helyszínt kellett keresnünk mely az\n
 \nXXXLUTZ áruház parkolója !!!\n\nUgyan azzal a szeretettel és hasonl
 ó paraméterekkel várjuk a árusokat\, veteránjármű tulajdonosokat é
 s a kedves látogatókat.\nBelépés minden veteránjárművel érkezőnek
  és látogatónak ingyenes\, árusoknak a terület nagyságától függő
 en fizetős.\n\nMindenkit megvendégelünk egy zsíroskenyérrel\, kávév
 al\, teával.
ATTACH;FMTTYPE=image/jpeg:https://otpecs.hu/wp-content/uploads/2025/02/Bor
 ze.webp
CATEGORIES:Kiállítás
LOCATION:https://www.google.com/maps/place/XXXLutz+P%C3%A9cs/@46.0634983,18
 .1801917,403m/data=!3m1!1e3!4m6!3m5!1s0x4742b202a22cf219:0xac09265389f9989
 f!8m2!3d46.062982!4d18.181496!16s%2Fg%2F119v9cgmt?entry=ttu&g_ep=EgoyMDI1M
 DkyMi4wIKXMDSoASAFQAw%3D%3D
END:VEVENT
BEGIN:VTIMEZONE
TZID:Europe/Budapest
X-LIC-LOCATION:Europe/Budapest
BEGIN:DAYLIGHT
DTSTART:20250330T030000
TZOFFSETFROM:+0100
TZOFFSETTO:+0200
TZNAME:CEST
END:DAYLIGHT
END:VTIMEZONE
END:VCALENDAR