BEGIN:VCALENDAR
VERSION:2.0
PRODID:-//wp-events-plugin.com//7.2.3.1//EN
BEGIN:VEVENT
UID:26@otpecs.hu
DTSTART;TZID=Europe/Budapest:20241023T060000
DTEND;TZID=Europe/Budapest:20241023T060000
DTSTAMP:20250112T182151Z
URL:https://otpecs.hu/esemenyek/oszi-veteranjarmu-kiallitas-es-borze/
SUMMARY:Őszi Veteránjármű Kiállítás és Börze
DESCRIPTION:Őszi szezonzáró veteránjármű kiállítás és börze Péc
 s\n\nHelyszín EXPO CENTER Pécs.\nMinden 25 évnél idősebb járművel 
 érkezőt és minden veteránjárművel kapcsolatos árut kínáló árust
  szeretettel várunk!\nDÍSZVENDÉG: AZ 1969-76. KÖZÖTT PÉCSETT KÖZLEK
 EDŐ EMELETES BUSZ\, MELLYEL RÖVID UTAZÁST IS TEHETÜNK !!!\nMindenkit v
 endégül látunk egy ingyen zsíros kenyérre és forró teára\, kávér
 a!\n1/100-as ügyességi versenyt is rendezünk\, ahol nem a gyorsaság\, 
 hanem a pontosság számít majd!!!\nBelépés a látogatóknak és veter
 ánjárművel érkezőknek ingyenes\, árusoknak a hely nagyságától fü
 ggően 2000.-Ft - tól.\nA látogatóknak a külső kavicsos parkolóban 
 biztosítunk parkolóhelyet.\nSzavazni lehet a legszebb veterán járműre
 \, aminek az eredményhirdetése 12:00 órakor lesz.\nA rendezvény zárá
 sa: 14:00 óra.\nInfo: Mott János\, 20/2405880
ATTACH;FMTTYPE=image/jpeg:https://otpecs.hu/wp-content/uploads/2025/01/osz
 iborze.jpg
LOCATION:https://maps.app.goo.gl/9MQ5tV5Vdb59HNBYA
END:VEVENT
BEGIN:VTIMEZONE
TZID:Europe/Budapest
X-LIC-LOCATION:Europe/Budapest
BEGIN:DAYLIGHT
DTSTART:20240331T030000
TZOFFSETFROM:+0100
TZOFFSETTO:+0200
TZNAME:CEST
END:DAYLIGHT
END:VTIMEZONE
END:VCALENDAR