BEGIN:VCALENDAR
VERSION:2.0
PRODID:-//wp-events-plugin.com//7.2.3.1//EN
BEGIN:VEVENT
UID:40@otpecs.hu
DTSTART;TZID=Europe/Budapest:20250712T100000
DTEND;TZID=Europe/Budapest:20250713T160000
DTSTAMP:20250523T091125Z
URL:https://otpecs.hu/esemenyek/pinkafeld-nemzetkozi-talalkozo/
SUMMARY:Pinkafeld - Nemzetközi Találkozó
DESCRIPTION:Pinkafeld - Nemzetközi Találkozó\nMásfél évtized után is
 mét ellátogatunk Pinkafeldre\, ahol a Batthyány Kastély udvarán sorak
 oznak fel a szebbnél-szebb veteránjárművek.\nA vasárnapi kiállítás
  elötti napon érkezünk\, hogy kipihenve jelenjünk meg a 9:00 órakor k
 ezdődő eseményen.\n\nSzombat:\nIndulás 10:00 órakor a Makay úti Orle
 n benzinkútról.\nÚtközben ( kb 12:00) ebéd Balatonszentgyörgyön a C
 sillagvár étteremben.\nÉrkezés Pinkafeldre a kora délutáni órákban
 .\nSzállás elfoglalása (40.-€/fő/ éjszaka reggelivel\, melyet a jú
 niusi klubgyűlésen kérünk befizetni!)\nKözös vacsora\, beszélgetés
 .\nVasárnap:\nReggeli után kivonulás a Batthyány Kastély parkjába.\n
 A járművek megtekintése\, programokon való részvétel\, étkezési le
 hetőség helyben.\n16:00 órakor kb. hazaindulás\n\nA részvételi lehet
 őség korlátozott!\n\nInfo: Mott János\, 20 2405880
ATTACH;FMTTYPE=image/jpeg:https://otpecs.hu/wp-content/uploads/2025/03/Pin
 kafeld.jpg
CATEGORIES:Kiállítás
LOCATION:Pinkafeld Schlossgasse 1.\, Schlossgasse 1.\, Pinkafeld\, 7423\, A
 usztria
X-APPLE-STRUCTURED-LOCATION;VALUE=URI;X-ADDRESS=Schlossgasse 1.\, Pinkafeld
 \, 7423\, Ausztria;X-APPLE-RADIUS=100;X-TITLE=Pinkafeld Schlossgasse 1.:ge
 o:0,0
END:VEVENT
BEGIN:VTIMEZONE
TZID:Europe/Budapest
X-LIC-LOCATION:Europe/Budapest
BEGIN:DAYLIGHT
DTSTART:20250330T030000
TZOFFSETFROM:+0100
TZOFFSETTO:+0200
TZNAME:CEST
END:DAYLIGHT
END:VTIMEZONE
END:VCALENDAR