BEGIN:VCALENDAR
VERSION:2.0
PRODID:-//wp-events-plugin.com//7.2.3.1//EN
BEGIN:VEVENT
UID:28@otpecs.hu
DTSTART;TZID=Europe/Budapest:20240501T120000
DTEND;TZID=Europe/Budapest:20240501T180000
DTSTAMP:20250112T183248Z
URL:https://otpecs.hu/esemenyek/szekszardi-retro-majalis/
SUMMARY:Szekszárdi Retro Majális
DESCRIPTION:\n\n\nA városi majális Szekszárdon minden évben május 1-j
 én kerül megrendezésre.\nGyermek és családi műsorokkal\, koncertekke
 l\, retro játékokkal\, kézműves- és kirakodó vásárral\, étkes sá
 trakkal várják az érdeklődőket.\n\nGyülekező a Budai Vámnál talá
 lható Tesco parkolóban.\nIndulás: 12:30\n\n14:00 órára várnak bennü
 nket a Szent István téren az OTP előtti útszakaszon.\nEgy városi felv
 onulással kezdjük a rendezvényt\, majd visszatérve 17:00 óráig leszn
 ek a járművek kiállítva.\n\nInfo: Mott János\, +36 20 2405880\n\n\n\n
ATTACH;FMTTYPE=image/jpeg:https://otpecs.hu/wp-content/uploads/2025/01/sze
 kszard.jpg
END:VEVENT
BEGIN:VTIMEZONE
TZID:Europe/Budapest
X-LIC-LOCATION:Europe/Budapest
BEGIN:DAYLIGHT
DTSTART:20240331T030000
TZOFFSETFROM:+0100
TZOFFSETTO:+0200
TZNAME:CEST
END:DAYLIGHT
END:VTIMEZONE
END:VCALENDAR