BEGIN:VCALENDAR
VERSION:2.0
PRODID:-//wp-events-plugin.com//7.2.3.1//EN
BEGIN:VEVENT
UID:44@otpecs.hu
DTSTART;TZID=Europe/Budapest:20251230T100000
DTEND;TZID=Europe/Budapest:20251230T130000
DTSTAMP:20251119T112907Z
URL:https://otpecs.hu/esemenyek/szilveszteri-veteranjarmu-kiallitas-es-gur
 ulas/
SUMMARY:Szilveszteri Veteránjármű Kiállítás és Gurulás
DESCRIPTION:Szilveszteri Oldtimer Kiállítás és gurulás 2025.12.30.\nP
 écs\, Széchenyi tér. ( Csak száraz idő esetén!)\nGyülekező 9:30-t
 ól\, behajtás 10:00 órakor\, északról a Hunyai út felől !!!\n\nDec
 ember 30-án mindenkit (nem csak klubtagot) várunk szeretettel '95 előtt
  gyártott járművével a Széchenyi térre!\nGyülekező a Hunyadi úti 
 bejáratnál 9:30-kor. A téren mindenki vendégünk egy forró teára és
  finom pogácsára.\n13:00 órakor egy közös városi gurulással zárjuk
  az eseményt\, melyen a KRESZ szigorú betartása mellett mindenki a saj
 át felelősségével vehet részt.\nÚtvonal: Hunyadí út - Ágoston té
 r - Lánc u. - Rákóczi u. - Siklósi u. - Maléter Pál u. - Nyugati ipa
 ri u. - Füzes dülő - Expo Center parkoló.\nA gurulás végén a járm
 űvezetők egy emlékmatricát kapnak ajándékba.\nElőzetes regisztrác
 ió nem szükséges\, de hangsúlyozzuk: a rendezvény csak száraz idő e
 setén lesz megtartva!\n\nInfo.: Mott János\, 20/2405880
ATTACH;FMTTYPE=image/jpeg:https://otpecs.hu/wp-content/uploads/2025/11/szi
 lveszteri-kiallitas.jpg
CATEGORIES:Kiállítás
LOCATION:Pécs Széchenyi tér\, Széchenyi tér\, Pécs\, Baranya\, 7631\,
  Magyarország
X-APPLE-STRUCTURED-LOCATION;VALUE=URI;X-ADDRESS=Széchenyi tér\, Pécs\, B
 aranya\, 7631\, Magyarország;X-APPLE-RADIUS=100;X-TITLE=Pécs Széchenyi 
 tér:geo:0,0
END:VEVENT
BEGIN:VTIMEZONE
TZID:Europe/Budapest
X-LIC-LOCATION:Europe/Budapest
BEGIN:STANDARD
DTSTART:20251026T020000
TZOFFSETFROM:+0200
TZOFFSETTO:+0100
TZNAME:CET
END:STANDARD
END:VTIMEZONE
END:VCALENDAR