BEGIN:VCALENDAR
VERSION:2.0
PRODID:-//wp-events-plugin.com//7.2.3.1//EN
BEGIN:VEVENT
UID:46@otpecs.hu
DTSTART;TZID=Europe/Budapest:20260509T074500
DTEND;TZID=Europe/Budapest:20260510T153000
DTSTAMP:20260329T121726Z
URL:https://otpecs.hu/esemenyek/tavaszi-tura-bugyi-kecskemet-2/
SUMMARY:Tavaszi túra - Bugyi - Kecskemét
DESCRIPTION:Tavaszi túra - Bugyi - Kecskemét\nFigyelem!\nA létszám bete
 lt\, sajnos nincs lehetőség a további jelentkezésre!\n2026.05.09.\n7:4
 5 Gyülekező a Budai vámnál lévő Tesco parkolóban\n8:00 Indulás a 6
 -os úton\, Paksnál rövid pihenő (15 perc)\, majd Dunaújváros Pentele
  híd és tovább az 51-esen.\n11:00 Érkezés Bugyiba (181 Km) a Forster 
 Vadászkastély és Szálloda (Ráday u. 14.)\n11:30 Ebéd a Vadászkasté
 lyban\n12:30 Indulás a Németh Veteránautó Múzeumba (Vásár tér 2347
 )\n15:30 Visszaindulás a Forster Szállodához\, szobák elfoglalása. We
 llness lehetőség\, a Kastély és park megtekintése\,\n18:30 Vacsora é
 s beszélgetés.\n\nFigyelem! A szállodába semmiféle italt bevinni TILO
 S\, mert a rendezvényt azonnal leállítják!\n\n2026.05.10.\nReggeli ut
 án indulunk Kecskemétre\, ahol csatlakozunk a helyi veteránklub "Tisza 
 Classic" rendezvényéhez. Kiállítás délig. (Kecskemét Kossuth tér (
 Millecentenáriumi emlékfa))\n12:00 Ebéd a Muszály Vendéglőben (Kecsk
 emét Újerdő út 27.)\n13:00 Ebéd után indulás haza.\n\nTúra ára: 2
 2705Ft/fő (ami tartalamzza a kiállítás belépő: 7000Ft/fő\, szombati
  ebéd: 4250Ft/fő\, vacsora: 5500Ft/fő\, vasárnapi ebéd: 5000Ft/fő\, 
 külön terembérlet 862Ft/fő\, a részvételi matricát 90Ft/fő díját
 .)\n\nA szállás ára: 2 ágyas szoba ára 21000.-Ft/2fő/éjszaka\, a 3 
 ágyas szoba ára 30700.-Ft/3fő/éjszaka reggelivel\, amit mindenki maga 
 fizet a recepciónál.\n\nA wellness igény szerint 4000.-Ft/fő\n\nA túr
 a árát Glück Tamás részére kérjük majd befizetni a 2026. április 
 2. csütörtökig!\nJelentkezéskor kérjük\, hogy az ételre érzékenye
 k jelezzék igényüket!\n\nA rendezvény főszervezője és info.: Glück
  Tamás\, tel.: +36 20 3651952\n\n&nbsp\;\n\nhttps://forsterkastely.hu/
ATTACH;FMTTYPE=image/jpeg:https://otpecs.hu/wp-content/uploads/2025/12/Bug
 yi-Kecskemet.jpg
CATEGORIES:Veterán túrák
LOCATION:https://maps.app.goo.gl/ZW57aeGTS7CsVVAA7
END:VEVENT
BEGIN:VTIMEZONE
TZID:Europe/Budapest
X-LIC-LOCATION:Europe/Budapest
BEGIN:DAYLIGHT
DTSTART:20260329T030000
TZOFFSETFROM:+0100
TZOFFSETTO:+0200
TZNAME:CEST
END:DAYLIGHT
END:VTIMEZONE
END:VCALENDAR