BEGIN:VCALENDAR
VERSION:2.0
PRODID:-//wp-events-plugin.com//7.2.3.1//EN
BEGIN:VEVENT
UID:31@otpecs.hu
DTSTART;TZID=Europe/Budapest:20250329T190000
DTEND;TZID=Europe/Budapest:20250329T234500
DTSTAMP:20250221T134917Z
URL:https://otpecs.hu/esemenyek/veteranbal-2025/
SUMMARY:Veteránbál 2025
DESCRIPTION:Veteránbál 2025.\nEgyesületünk első idei rendezvénye a sz
 okásokhoz híven a Veteránbál.\nSzeretettel várunk minden érdeklődő
 t\, klubtagot\, (Nem csak klubtagot!) szimpatizánst és mindenkit\, aki s
 zívesen tölt el egy estét társaságunkban.\n\nIdőpont: 2025.03.29. 19
 :00 óra.\nHelyszín: Hotel Laterum díszterme ( 7633 Pécs\, Hajnóczi u.
  37-39.)\n\nAz est folyamán lesz élőzene\, welcome drink\, vacsora\, to
 mbolasorsolás és tánc hajnalig.\n\nRészvételi díj 12000.-Ft/fő\, me
 ly a fenti szolgáltatásokat tartalmazza.\nAz Oldtimer Club Pécs tagjai 
 2000.-Ft/fő kedvezményben részesülnek!\nA Hotel korlátozott számban 
 a bál vendégei részére kedvezményes szálláslehetőséget biztosít 
 reggelivel az alábbi árakon:\n2-3 fős elhelyezés esetén: 13000.-Ft + 
 400.-Ft ifa/fő\n1 fős elhelyezés esetén: 17000.-Ft + 400.-Ft ifa/fő\n
 \nJelentkezni itt a honlapon lehetséges 2025.03.15-ig.\nA jelentkezés a 
 részvételi díj befizetésének határideje 2025.03.15. A regisztráció
  ezzel válik véglegessé!\nAkik egy asztalnál szeretnének ülni\, azok
  egy név alatt regisztráljanak\, a további résztvevők neveit a megjeg
 yzés rovatban sorolják fel!\n\nMegkérjük a kedves vendégeinket\, hogy
  legalább 1 db ajándékkal járuljanak hozzá a tombolanyeremények kín
 álatához!\n\nA Menü: Ínycsiklandó Klasszikusok\nElőétel: Libamáj p
 ástétommal töltött szűzpecsenye\, ropogós baconbe burkolva\, olívá
 s marinált zöldségekkel - Könnyed elegancia az étkezés kezdetén.\nF
 őétel: Zöldfűszeres krémsajttal töltött pulykamell filé\, ropogós
  lenmagos bundában - Omlós és ízletes\, a könnyed fogások kedvelőin
 ek. Fehérborban érlelt\, grillezett sertéstarja\, lágy tejszínes-snid
 lings mártással - Gazdag ízvilág\, a hagyományos ízek harmóniája.\
 nKöretek: Párolt rizs\, burgonyakrokett - Klasszikus köretek\, melyek t
 ökéletesen kiegészítik az ízeket.\nSaláta: Vegyes idény saláta - F
 rissesség és vitaminok a kiegyensúlyozott étkezésért.\nDesszert: Som
 lói Galuska - A magyar desszert klasszikus\, mely mindenkit elvarázsol.\
 n\nB Menü: Gourmet Ízutazás\nElőétel: Zöldfűszeres szűzérme\, sok
 magvas\, füstös bundában\, friss ruccola salátaágyon\, házi brióssa
 l - Kreatív ízkombinációk\, a különleges előételek kedvelőinek.\n
 Főétel: Mozzarellával és grillezett\, színes zöldségekkel töltött
  csirkemell filé\, klasszikus bécsi bundában - Mediterrán hangulat\, a
  könnyed és ízletes fogásokért. Omlós csirkemájjal bélelt szűzpec
 senye\, ropogós bacon köntösben\, selymes zöldbors mártással - Gazda
 g és harmonikus ízek\, az ínyencek számára.\nKöretek: Jázmin rizs\,
  hordóburgonya - Különleges köretek\, melyek fokozzák az ízélményt
 .\nSaláta: Vegyes idény saláta - Frissesség és könnyedség minden fa
 latban.\nDesszert: Somlói Galuska - A hagyományos ízek édes befejezés
 e.\n\nC Menü - Vegetáriánus: Zöldségkert Ízei\nElőétel: Bivaly moz
 zarella\, zamatos capri gyümölcsökkel\, fekete olivával és marinált 
 zöldségekkel\, a mediterrán ízek jegyében - Frissesség és könnyeds
 ég\, a vegetáriánus ízek harmóniája.\nFőétel: Cukkíni érmék\, a
 ranyló parmezános bundában sütve - Könnyed és ízletes\, a zöldség
 ek különleges arcát mutatja meg. Fehérboros párizsi bundában sült\,
  lágy padlizsán szeletek - Mediterrán ízek\, a vegetáriánus fogások
  eleganciája.\nKöretek: Vajon párolt\, friss spárga\, könnyed jázmin
  rizs\, steak burgonya - Változatos köretek\, melyek kiemelik a zöldsé
 gek ízeit.\nSaláta: Görög saláta - Üde és friss\, a mediterrán han
 gulat jegyében.\nDesszert: Somlói Galuska - Édes kényeztetés\, a vege
 táriánus menü méltó befejezése.\n\nD Menü - Laktóz- és Gluténmen
 tes: Könnyed és Egészséges Választás\nElőétel: Konfitált csirkeme
 ll filé\, friss spárgával és fafül gombával töltve\, marinált zöl
 dségkoktéllal tálalva - Könnyed és ízletes\, a különleges előéte
 lek kedvelőinek.\nFőétel: Koktélparadicsommal és fekete olívabogyóv
 al bélelt jércemell rolád\, ropogós baconbe tekerve - Mediterrán íze
 k\, a könnyed és egészséges fogásokért. Pácolt\, grillezett sertés
 tarja\, saját\, ízletes pecsenyelével (zsű-vel) meglocsolva - Gazdag 
 ízek\, a laktóz- és gluténmentes fogások eleganciája.\nKöretek: Pá
 rolt rizs\, fűszeres steak burgonya - Egyszerű\, de ízletes köretek\, 
 melyek illeszkednek a menühöz.\nSaláta: Vegyes idény saláta - Frisses
 ség és könnyedség\, a kiegyensúlyozott étkezésért.\nDesszert: Gyü
 mölcskehely - Könnyed és frissítő befejezés\, a laktóz- és glutén
 mentes igényekhez igazítva.\n\nTovábbi info.: Mott János\, +36 20 2405
 880
ATTACH;FMTTYPE=image/jpeg:https://otpecs.hu/wp-content/uploads/2025/01/Kep
 ernyokep-2025-01-14-175512.jpg
CATEGORIES:Parti és szórakzozás
LOCATION:https://maps.app.goo.gl/SxdiHXX2xk7ZJNjv9
END:VEVENT
BEGIN:VTIMEZONE
TZID:Europe/Budapest
X-LIC-LOCATION:Europe/Budapest
BEGIN:STANDARD
DTSTART:20241027T020000
TZOFFSETFROM:+0200
TZOFFSETTO:+0100
TZNAME:CET
END:STANDARD
END:VTIMEZONE
END:VCALENDAR