BEGIN:VCALENDAR
VERSION:2.0
PRODID:-//wp-events-plugin.com//7.2.3.1//EN
BEGIN:VEVENT
UID:9@otpecs.hu
DTSTART;VALUE=DATE:20240920
DTEND;VALUE=DATE:20240921
DTSTAMP:20250112T095914Z
URL:https://otpecs.hu/esemenyek/xiv-nemzetkozi-veteranjarmu-talalkozo-pecs
 /
SUMMARY:XIV. Nemzetközi Veteránjármű Találkozó Pécs
DESCRIPTION:Tervezett program:\n\nPéntek\, szeptember 20.:16.00 órától 
 Vendégek érkezése\, regisztráció.\n( Cím: Hotel Laterum\, 7633 Pécs
 \, Hajnóczy u.37-39. )\n18:00. Gyalogos túra Uránvárosban.\n19.45. Kö
 szöntő\, programismertetés.\n20.00. vacsora\, zenés\, táncos beszélg
 etés\, ismerkedés.\n\nSzombat\, szeptember 21.:\n7.30 – 8.30 Reggeli\n
 9.30. Túra a város környékén\n13.00 Ebéd\n15:00 Csatlakozás a Retro
 partizánok kiállításához az Expo Centernél.\n18.30. Érkezés a szá
 lláshelyre.\n19.30. Díszvacsora\, zene\, tánc hajnalig.\n\nVasárnap\, 
 szeptember 22.:\n7.30 – 9.00 Reggeli.\n10.00. Kiállítás Pécs főter
 én\n12.00.  ebéd.\n13.30. A rendezvény zárása.\n\nA rendezvényen 19
 90 előtt gyártott járművek vehetnek részt!\n\nRészvételi díjak a 
 regisztrációs lapon is megtalálhatóak.\nTeljes ellátás hotelszobai 
 elhelyezéssel 60000.-Ft/fő/2éj (klubtagoknak 55000.-Ft)\nEgyágyas fel
 ár: 12000.-Ft/fő/2éj\npéntek - vasárnap: 35000.- Ft (klubtagoknak: 32
 000.-Ft)\nszombat vasárnap szállás nélkül 32000.-Ft/fő (klubtagoknak
  28000.-Ft)\ncsak szombat 28000.-Ft/fő (ebéddel\, vacsorával\, díjazá
 ssal) (klubtagoknak 25000.-Ft)\ncsak vasárnap 5000.-Ft/jármű - (ebéd 
 és díjazás nélkül\, indulócsomaggal)\n\nGyermekkedvezmény: 3 éves 
 korig ingyenes\, 3-10 év között 50%\nJelentkezési határidő: 2024.sze
 ptember 10. 24.00 óra\, vagy ha a létszám eléri a maximumot!\nA regi
 sztráció véglegesítése érdekében kérjük\, hogy a nevezési díjat
  legkésőbb szeptember 14-ig szíveskedjék átutalni az alábbi számla
 számra\, vagy személyesen pénztárunkba befizetni!\nAz Oldtimer Club P
 écs bankszámlaszáma:\n50800111-11073969\n\nA regisztráció a részvét
 eli díj megfizetésével válik véglegessé!\nTovábbi információ: Mot
 t János\, tel.: +36 20 2405880
ATTACH;FMTTYPE=image/jpeg:https://otpecs.hu/wp-content/uploads/2024/10/2.p
 ng
LOCATION:Ambient Hotel & Thermal SPA\, Fürdő utca 5.\, Sikonda\, Baranya\
 , 7300\, Magyarország
X-APPLE-STRUCTURED-LOCATION;VALUE=URI;X-ADDRESS=Fürdő utca 5.\, Sikonda\,
  Baranya\, 7300\, Magyarország;X-APPLE-RADIUS=100;X-TITLE=Ambient Hotel &
  Thermal SPA:geo:0,0
END:VEVENT
END:VCALENDAR