BEGIN:VCALENDAR
VERSION:2.0
PRODID:-//wp-events-plugin.com//7.2.3.1//EN
BEGIN:VEVENT
UID:23@otpecs.hu
DTSTART;TZID=Europe/Budapest:20240614T120000
DTEND;TZID=Europe/Budapest:20240616T160000
DTSTAMP:20250112T180048Z
URL:https://otpecs.hu/esemenyek/zalaszentgrot-kiallitas-es-camping/
SUMMARY:Zalaszentgrót - kiállítás és camping
DESCRIPTION:Indulás 14-én pénteken\, 10.00 órakor a Makay úti Tesco pa
 rkolóból. (Pécs - Zalaszentgrót: 180Km)\nÉrkezés a Zalaszentgróti T
 ermálfürdőbe\, a camping elfoglalása\, járművek kiállítása..\nSza
 bad program vasárnap délig fürdéssel\, bográcsozással\, esténként 
 zene\, tánc.\n\nHazaindulás 16-án vasárnap\, a kora délutáni órákb
 an.\nSzállás: a camping területén\, mindenki a saját maga által hozo
 tt sátorban\, vagy lakókocsiban.\n\nÉtelről és italról mindenki ön
 állóan gondoskodik\, étkezési lehetőség a strand területén lévő 
 büfében.\nKlubtagok részére a szombat esti vacsorát a klub biztosítj
 a.\n\nRészvételi díj: Oldtimer Club Pécs igazolt tagoknak: 6000.-Ft/f
 ő\, nem klubtagoknak 8000.-Ft/fő/ hétvége.\nRészvétel kizárólag el
 őzetes "online regisztráció" után lehetséges!\n\nVárjuk jelentkezés
 edet! Oldtimer Club Pécs\nTovábbi info.: Mott János\, +36 20 2405880
ATTACH;FMTTYPE=image/jpeg:https://otpecs.hu/wp-content/uploads/2024/06/sze
 ntgrotlogo_4.jpg
END:VEVENT
BEGIN:VTIMEZONE
TZID:Europe/Budapest
X-LIC-LOCATION:Europe/Budapest
BEGIN:DAYLIGHT
DTSTART:20240331T030000
TZOFFSETFROM:+0100
TZOFFSETTO:+0200
TZNAME:CEST
END:DAYLIGHT
END:VTIMEZONE
END:VCALENDAR